BEGIN:VCALENDAR
VERSION:2.0
PRODID:-//Tukios.com/
BEGIN:VEVENT
UID:1bfba3ae-3974-42d2-9887-7479b4732a60@www.stanleyfuneralhome.com
DTSTAMP:20260420T193634Z
DTSTART:20260422T190000Z
DTEND:20260422T200000Z
SUMMARY:Funeral Service
DESCRIPTION:
URL:https://www.stanleyfuneralhome.com/obituaries/gwen-lee
LOCATION: 8580 S Marcus St  Wrightsville GA 31096
GEO:32.7267129;-82.7193502
END:VEVENT
END:VCALENDAR