BEGIN:VCALENDAR
VERSION:2.0
PRODID:-//Tukios.com/
BEGIN:VEVENT
UID:9d583c6e-2187-49df-ac69-62560f227c01@www.stanleyfuneralhome.com
DTSTAMP:20260420T193125Z
DTSTART:20260422
SUMMARY:Burial
DESCRIPTION:
URL:https://www.stanleyfuneralhome.com/obituaries/gwen-lee
LOCATION:Foskey Cemetery Ga Hwy 15 S  Adrian GA 31002
GEO:32.5307148;-82.5892951
END:VEVENT
END:VCALENDAR