BEGIN:VCALENDAR
VERSION:2.0
PRODID:-//Tukios.com/
BEGIN:VEVENT
UID:953b2438-1a62-452d-a515-2adc092dd992@www.stanleyfuneralhome.com
DTSTAMP:20260420T193743Z
DTSTART:20260421T220000Z
DTEND:20260422T000000Z
SUMMARY:Visitation
DESCRIPTION:
URL:https://www.stanleyfuneralhome.com/obituaries/gwen-lee
LOCATION: 8580 S Marcus St  Wrightsville GA 31096
GEO:32.7267129;-82.7193502
END:VEVENT
END:VCALENDAR